BEGIN:VCALENDAR
VERSION:2.0
PRODID:-//wp-events-plugin.com//7.2.3.1//EN
BEGIN:VEVENT
UID:1@kotisivutehtailija.fi
DTSTART:20250629T150000Z
DTEND:20250629T180000Z
DTSTAMP:20250628T073439Z
URL:https://kotisivutehtailija.fi/events/ilosanoman-ilta/
SUMMARY:ilosanoman ilta
DESCRIPTION:dfasdf
LOCATION:srk\, tasalankatu\, turku\, Suomi
X-APPLE-STRUCTURED-LOCATION;VALUE=URI;X-ADDRESS=tasalankatu\, turku\, Suomi
 ;X-APPLE-RADIUS=100;X-TITLE=srk:geo:0,0
END:VEVENT
END:VCALENDAR